BEGIN:VCALENDAR
VERSION:2.0
PRODID:-//Hastings Museum - ECPv6.15.11//NONSGML v1.0//EN
CALSCALE:GREGORIAN
METHOD:PUBLISH
X-ORIGINAL-URL:https://hastingsmuseum.org
X-WR-CALDESC:Events for Hastings Museum
REFRESH-INTERVAL;VALUE=DURATION:PT1H
X-Robots-Tag:noindex
X-PUBLISHED-TTL:PT1H
BEGIN:VTIMEZONE
TZID:America/Chicago
BEGIN:DAYLIGHT
TZOFFSETFROM:-0600
TZOFFSETTO:-0500
TZNAME:CDT
DTSTART:20250309T080000
END:DAYLIGHT
BEGIN:STANDARD
TZOFFSETFROM:-0500
TZOFFSETTO:-0600
TZNAME:CST
DTSTART:20251102T070000
END:STANDARD
BEGIN:DAYLIGHT
TZOFFSETFROM:-0600
TZOFFSETTO:-0500
TZNAME:CDT
DTSTART:20260308T080000
END:DAYLIGHT
BEGIN:STANDARD
TZOFFSETFROM:-0500
TZOFFSETTO:-0600
TZNAME:CST
DTSTART:20261101T070000
END:STANDARD
BEGIN:DAYLIGHT
TZOFFSETFROM:-0600
TZOFFSETTO:-0500
TZNAME:CDT
DTSTART:20270314T080000
END:DAYLIGHT
BEGIN:STANDARD
TZOFFSETFROM:-0500
TZOFFSETTO:-0600
TZNAME:CST
DTSTART:20271107T070000
END:STANDARD
END:VTIMEZONE
BEGIN:VEVENT
DTSTART;TZID=America/Chicago:20260329T140000
DTEND;TZID=America/Chicago:20260329T153000
DTSTAMP:20260425T134621
CREATED:20260318T214308Z
LAST-MODIFIED:20260318T214308Z
UID:30893-1774792800-1774798200@hastingsmuseum.org
SUMMARY:Community Conversation
DESCRIPTION:  \nWhen: Sunday\, March 29When: 2:00 pmWhere: Hastings Museum’s Lied Super Screen TheaterPrice: FREE \nThe Hastings Museum is inviting the public to participate in a discussion focused on planning a new exhibit about the history and legacy of the Naval Ammunition Depot (NAD) \nJoin us on Sunday\, March 29 at 2:00 pm for a Community Conversation focused on gathering feedback and ideas about what this future gallery could include. \nAs we begin early development of this exhibit\, staff are seeking input to guide its direction\, themes\, and storytelling. The Naval Ammunition Depot played a significant role in Hastings’ history\, influencing everything from wartime production efforts to everyday life. This event offers an opportunity for the public to share their thoughts and help shape the topics presented in the upcoming exhibit. \nFor those unable to attend\, feedback forms will remain open through April\, with both online and physical copies available. \nThis event is part of the Museum’s ongoing Community Conversation series\, which gathers public input to guide institutional planning and development efforts. Individuals of all backgrounds and levels of NAD knowledge are encouraged to take part. These discussions and renovations support the Hastings Museum’s mission of sparking curiosity\, inviting exploration\, and telling the ongoing story of Central Nebraska. \n\nLEARN MORE
URL:https://hastingsmuseum.org/event/community-conversation/
LOCATION:Hastings Museum
CATEGORIES:Event,Featured
ATTACH;FMTTYPE=image/jpeg:https://hastingsmuseum.org/wp-content/uploads/2026/03/NAD-Exhibit-Planning.jpg
END:VEVENT
END:VCALENDAR